BEGIN:VCALENDAR
VERSION:2.0
PRODID:-//Arbeitskreis Innovation &amp; Umwelt - ECPv5.9.1//NONSGML v1.0//EN
CALSCALE:GREGORIAN
METHOD:PUBLISH
X-WR-CALNAME:Arbeitskreis Innovation &amp; Umwelt
X-ORIGINAL-URL:http://akiu.stipendiat.org
X-WR-CALDESC:Veranstaltungen für Arbeitskreis Innovation &amp; Umwelt
BEGIN:VTIMEZONE
TZID:Europe/Helsinki
BEGIN:DAYLIGHT
TZOFFSETFROM:+0200
TZOFFSETTO:+0300
TZNAME:EEST
DTSTART:20180325T010000
END:DAYLIGHT
BEGIN:STANDARD
TZOFFSETFROM:+0300
TZOFFSETTO:+0200
TZNAME:EET
DTSTART:20181028T010000
END:STANDARD
END:VTIMEZONE
BEGIN:VEVENT
DTSTART;VALUE=DATE:20180331
DTEND;VALUE=DATE:20180402
DTSTAMP:20260419T113552
CREATED:20180619T200317Z
LAST-MODIFIED:20180619T202300Z
UID:1288-1522454400-1522627199@akiu.stipendiat.org
SUMMARY:Wie bilden wir unsere MINTler aus?
DESCRIPTION:In diesem Seminar soll ein ganzheitlicher Blick auf den aktuellen Stand der Ausbildung von Fachkräften in den sogenannten MINTFächern (Mathematik\, Informatik\,  Naturwissenschaften und Technik) geworfen werden. Es geht darum\, den Teilnehmerinnen und Teilnehmern sowohl solide Grundkenntnisse über Aufbau und Funktion von MINT-Studiengängen zu geben sowie die Schwierigkeiten und Probleme\, denen sich Universitäten und Schulen bei der MINT-Ausbildung im 21. Jahrhundert stellen müssen\, zu thematisieren. Neben interessierten Bürgerinnen und Bürgern soll sich das Seminar explizit an Studierende aller Wissenschaften richten\, da besonders die interdisziplinäre Vernetzung und der Blick über den eigenen Fachbereich im MINT-Sektor von großer Bedeutung sind. Ziel des Seminars ist es\, dass die Teilnehmerinnen und Teilnehmer eigene Ideen zur Verbesserung der MINT-Ausbildung an Schulen und Universitäten entwickeln.\nDieses Seminar findet in Kooperation mit dem Arbeitskreis Innovation und Umwelt der Stipendiaten der Friedrich-Naumann-Stiftung statt.
URL:http://akiu.stipendiat.org/event/wie-bilden-wir-unsere-mintler-aus/
LOCATION:Theodor-Heuss-Akademie\, Gummersbach\, Deutschland
CATEGORIES:Seminar,THA-Seminar
END:VEVENT
END:VCALENDAR